BEGIN:VCALENDAR
VERSION:2.0
PRODID:-//CSI Tamil Abu Dhabi | CSI Tamil Parish Abu Dhabi | Tamil Church in UAE - ECPv6.15.17.1//NONSGML v1.0//EN
CALSCALE:GREGORIAN
METHOD:PUBLISH
X-ORIGINAL-URL:https://csitamilabudhabi.org
X-WR-CALDESC:Events for CSI Tamil Abu Dhabi | CSI Tamil Parish Abu Dhabi | Tamil Church in UAE
REFRESH-INTERVAL;VALUE=DURATION:PT1H
X-Robots-Tag:noindex
X-PUBLISHED-TTL:PT1H
BEGIN:VTIMEZONE
TZID:UTC
BEGIN:STANDARD
TZOFFSETFROM:+0000
TZOFFSETTO:+0000
TZNAME:UTC
DTSTART:20240101T000000
END:STANDARD
END:VTIMEZONE
BEGIN:VTIMEZONE
TZID:Asia/Dubai
BEGIN:STANDARD
TZOFFSETFROM:+0400
TZOFFSETTO:+0400
TZNAME:+04
DTSTART:20250101T000000
END:STANDARD
END:VTIMEZONE
BEGIN:VEVENT
DTSTART;TZID=UTC:20250826T080000
DTEND;TZID=UTC:20250826T170000
DTSTAMP:20260422T222331
CREATED:20250813T112139Z
LAST-MODIFIED:20250813T185227Z
UID:1529-1756195200-1756227600@csitamilabudhabi.org
SUMMARY:Area Prayer cell – Every Tuesday
DESCRIPTION:
URL:https://csitamilabudhabi.org/event/area-prayer-cell-every-tuesday-2/
LOCATION:CSI Tamil Parish Abu Dhabi\, St Andrew’s Centre – 22 Sinan Bin Abi Sinan St – Al Mushrif – W24 02\, Abu Dhabi\, United Arab Emirates
ATTACH;FMTTYPE=image/jpeg:https://csitamilabudhabi.org/wp-content/uploads/2025/08/church002-980x551-1.jpg
ORGANIZER;CN="Best Event Organizer":MAILTO:info@loremips.com
END:VEVENT
BEGIN:VEVENT
DTSTART;TZID=UTC:20260105T203000
DTEND;TZID=UTC:20260105T230000
DTSTAMP:20260422T222331
CREATED:20260422T172330Z
LAST-MODIFIED:20260422T172330Z
UID:2195-1767645000-1767654000@csitamilabudhabi.org
SUMMARY:Holy Communion Service
DESCRIPTION:Regular Friday Service – Holy Communion Service
URL:https://csitamilabudhabi.org/event/holy-communion-service-3/
END:VEVENT
BEGIN:VEVENT
DTSTART;TZID=UTC:20260210T203000
DTEND;TZID=UTC:20260210T230000
DTSTAMP:20260422T222331
CREATED:20260422T172432Z
LAST-MODIFIED:20260422T172432Z
UID:2208-1770755400-1770764400@csitamilabudhabi.org
SUMMARY:Holy Communion Service
DESCRIPTION:Regular Friday Service – Holy Communion Service
URL:https://csitamilabudhabi.org/event/holy-communion-service-8/
END:VEVENT
BEGIN:VEVENT
DTSTART;TZID=UTC:20260304T203000
DTEND;TZID=UTC:20260304T230000
DTSTAMP:20260422T222331
CREATED:20260422T172330Z
LAST-MODIFIED:20260422T172330Z
UID:2191-1772656200-1772665200@csitamilabudhabi.org
SUMMARY:Holy Communion Service
DESCRIPTION:Regular Friday Service – Holy Communion Service
URL:https://csitamilabudhabi.org/event/holy-communion-service/
END:VEVENT
BEGIN:VEVENT
DTSTART;TZID=UTC:20260307T203000
DTEND;TZID=UTC:20260307T230000
DTSTAMP:20260422T222331
CREATED:20260422T172348Z
LAST-MODIFIED:20260422T172348Z
UID:2202-1772915400-1772924400@csitamilabudhabi.org
SUMMARY:Holy Communion Service
DESCRIPTION:Regular Friday Service – Holy Communion Service
URL:https://csitamilabudhabi.org/event/holy-communion-service-5/
END:VEVENT
BEGIN:VEVENT
DTSTART;TZID=Asia/Dubai:20260310T200000
DTEND;TZID=Asia/Dubai:20260310T213000
DTSTAMP:20260422T222331
CREATED:20250813T111917Z
LAST-MODIFIED:20260309T175013Z
UID:1524-1773172800-1773178200@csitamilabudhabi.org
SUMMARY:Area Prayer cell – Every Tuesday
DESCRIPTION:
URL:https://csitamilabudhabi.org/event/area-prayer-cell-every-tuesday/
LOCATION:CSI Tamil Parish Abu Dhabi\, St Andrew’s Centre – 22 Sinan Bin Abi Sinan St – Al Mushrif – W24 02\, Abu Dhabi\, United Arab Emirates
ATTACH;FMTTYPE=image/jpeg:https://csitamilabudhabi.org/wp-content/uploads/2025/08/cross-with-bible-candle-old-oak-wooden-table.jpg
ORGANIZER;CN="Best Event Organizer":MAILTO:info@loremips.com
END:VEVENT
BEGIN:VEVENT
DTSTART;TZID=Asia/Dubai:20260313T203000
DTEND;TZID=Asia/Dubai:20260313T230000
DTSTAMP:20260422T222331
CREATED:20260309T164653Z
LAST-MODIFIED:20260309T164653Z
UID:2038-1773433800-1773442800@csitamilabudhabi.org
SUMMARY:Holy Divine Service - Friday
DESCRIPTION:
URL:https://csitamilabudhabi.org/event/holy-divine-service-friday/
LOCATION:CSI Tamil Parish Abu Dhabi\, St Andrew’s Centre – 22 Sinan Bin Abi Sinan St – Al Mushrif – W24 02\, Abu Dhabi\, United Arab Emirates
ATTACH;FMTTYPE=image/jpeg:https://csitamilabudhabi.org/wp-content/uploads/2025/08/holy-bible-with-rays-light-coming-out-ai-generative.jpg
END:VEVENT
BEGIN:VEVENT
DTSTART;TZID=Asia/Dubai:20260320T203000
DTEND;TZID=Asia/Dubai:20260320T230000
DTSTAMP:20260422T222331
CREATED:20250813T111646Z
LAST-MODIFIED:20260309T170322Z
UID:1522-1774038600-1774047600@csitamilabudhabi.org
SUMMARY:Holy Communion Service - Friday
DESCRIPTION:
URL:https://csitamilabudhabi.org/event/holy-communion-worship-service-friday/
LOCATION:CSI Tamil Parish Abu Dhabi\, St Andrew’s Centre – 22 Sinan Bin Abi Sinan St – Al Mushrif – W24 02\, Abu Dhabi\, United Arab Emirates
ATTACH;FMTTYPE=image/jpeg:https://csitamilabudhabi.org/wp-content/uploads/2025/08/holy-bible-with-rays-light-coming-out-ai-generative.jpg
END:VEVENT
BEGIN:VEVENT
DTSTART;TZID=UTC:20260409T203000
DTEND;TZID=UTC:20260409T230000
DTSTAMP:20260422T222331
CREATED:20260422T172417Z
LAST-MODIFIED:20260422T172417Z
UID:2206-1775766600-1775775600@csitamilabudhabi.org
SUMMARY:Holy Communion Service
DESCRIPTION:Regular Friday Service – Holy Communion Service
URL:https://csitamilabudhabi.org/event/holy-communion-service-7/
END:VEVENT
BEGIN:VEVENT
DTSTART;TZID=UTC:20260412T203000
DTEND;TZID=UTC:20260412T230000
DTSTAMP:20260422T222331
CREATED:20260422T172503Z
LAST-MODIFIED:20260422T172503Z
UID:2211-1776025800-1776034800@csitamilabudhabi.org
SUMMARY:Holy Communion Service
DESCRIPTION:Regular Friday Service – Holy Communion Service
URL:https://csitamilabudhabi.org/event/holy-communion-service-10/
END:VEVENT
BEGIN:VEVENT
DTSTART;TZID=UTC:20260506T203000
DTEND;TZID=UTC:20260506T230000
DTSTAMP:20260422T222331
CREATED:20260422T172333Z
LAST-MODIFIED:20260422T172333Z
UID:2200-1778099400-1778108400@csitamilabudhabi.org
SUMMARY:Holy Communion Service
DESCRIPTION:Regular Friday Service – Holy Communion Service
URL:https://csitamilabudhabi.org/event/holy-communion-service-4/
END:VEVENT
BEGIN:VEVENT
DTSTART;TZID=UTC:20260611T203000
DTEND;TZID=UTC:20260611T230000
DTSTAMP:20260422T222331
CREATED:20260422T172447Z
LAST-MODIFIED:20260422T172447Z
UID:2210-1781209800-1781218800@csitamilabudhabi.org
SUMMARY:Holy Communion Service
DESCRIPTION:Regular Friday Service – Holy Communion Service
URL:https://csitamilabudhabi.org/event/holy-communion-service-9/
END:VEVENT
BEGIN:VEVENT
DTSTART;TZID=UTC:20260708T203000
DTEND;TZID=UTC:20260708T230000
DTSTAMP:20260422T222331
CREATED:20260422T172403Z
LAST-MODIFIED:20260422T172403Z
UID:2205-1783542600-1783551600@csitamilabudhabi.org
SUMMARY:Holy Communion Service
DESCRIPTION:Regular Friday Service – Holy Communion Service
URL:https://csitamilabudhabi.org/event/holy-communion-service-6/
END:VEVENT
BEGIN:VEVENT
DTSTART;TZID=UTC:20260805T203000
DTEND;TZID=UTC:20260805T230000
DTSTAMP:20260422T222331
CREATED:20260422T172333Z
LAST-MODIFIED:20260422T172333Z
UID:2196-1785961800-1785970800@csitamilabudhabi.org
SUMMARY:Holy Divine Service
DESCRIPTION:Regular Friday Service – Holy Divine Service
URL:https://csitamilabudhabi.org/event/holy-divine-service-3/
END:VEVENT
BEGIN:VEVENT
DTSTART;TZID=UTC:20260910T203000
DTEND;TZID=UTC:20260910T230000
DTSTAMP:20260422T222331
CREATED:20260422T172432Z
LAST-MODIFIED:20260422T172432Z
UID:2209-1789072200-1789081200@csitamilabudhabi.org
SUMMARY:Holy Divine Service
DESCRIPTION:Regular Friday Service – Holy Divine Service
URL:https://csitamilabudhabi.org/event/holy-divine-service-7/
END:VEVENT
BEGIN:VEVENT
DTSTART;TZID=UTC:20261004T203000
DTEND;TZID=UTC:20261004T230000
DTSTAMP:20260422T222331
CREATED:20260422T172330Z
LAST-MODIFIED:20260422T172330Z
UID:2192-1791145800-1791154800@csitamilabudhabi.org
SUMMARY:Holy Divine Service
DESCRIPTION:Regular Friday Service – Holy Divine Service
URL:https://csitamilabudhabi.org/event/holy-divine-service/
END:VEVENT
BEGIN:VEVENT
DTSTART;TZID=UTC:20261007T203000
DTEND;TZID=UTC:20261007T230000
DTSTAMP:20260422T222331
CREATED:20260422T172348Z
LAST-MODIFIED:20260422T172348Z
UID:2203-1791405000-1791414000@csitamilabudhabi.org
SUMMARY:Holy Divine Service
DESCRIPTION:Regular Friday Service – Holy Divine Service
URL:https://csitamilabudhabi.org/event/holy-divine-service-5/
END:VEVENT
BEGIN:VEVENT
DTSTART;TZID=UTC:20261109T203000
DTEND;TZID=UTC:20261109T230000
DTSTAMP:20260422T222331
CREATED:20260422T172417Z
LAST-MODIFIED:20260422T172417Z
UID:2207-1794256200-1794265200@csitamilabudhabi.org
SUMMARY:Holy Divine Service
DESCRIPTION:Regular Friday Service – Holy Divine Service
URL:https://csitamilabudhabi.org/event/holy-divine-service-6/
END:VEVENT
BEGIN:VEVENT
DTSTART;TZID=UTC:20261112T203000
DTEND;TZID=UTC:20261112T230000
DTSTAMP:20260422T222331
CREATED:20260422T172503Z
LAST-MODIFIED:20260422T172503Z
UID:2212-1794515400-1794524400@csitamilabudhabi.org
SUMMARY:Holy Divine Service
DESCRIPTION:Regular Friday Service – Holy Divine Service
URL:https://csitamilabudhabi.org/event/holy-divine-service-8/
END:VEVENT
BEGIN:VEVENT
DTSTART;TZID=UTC:20261206T203000
DTEND;TZID=UTC:20261206T230000
DTSTAMP:20260422T222331
CREATED:20260422T172348Z
LAST-MODIFIED:20260422T172348Z
UID:2201-1796589000-1796598000@csitamilabudhabi.org
SUMMARY:Holy Divine Service
DESCRIPTION:Regular Friday Service – Holy Divine Service
URL:https://csitamilabudhabi.org/event/holy-divine-service-4/
END:VEVENT
END:VCALENDAR