BEGIN:VCALENDAR
VERSION:2.0
PRODID:-//CSI Tamil Abu Dhabi | CSI Tamil Parish Abu Dhabi | Tamil Church in UAE - ECPv6.15.17.1//NONSGML v1.0//EN
CALSCALE:GREGORIAN
METHOD:PUBLISH
X-WR-CALNAME:CSI Tamil Abu Dhabi | CSI Tamil Parish Abu Dhabi | Tamil Church in UAE
X-ORIGINAL-URL:https://csitamilabudhabi.org
X-WR-CALDESC:Events for CSI Tamil Abu Dhabi | CSI Tamil Parish Abu Dhabi | Tamil Church in UAE
REFRESH-INTERVAL;VALUE=DURATION:PT1H
X-Robots-Tag:noindex
X-PUBLISHED-TTL:PT1H
BEGIN:VTIMEZONE
TZID:UTC
BEGIN:STANDARD
TZOFFSETFROM:+0000
TZOFFSETTO:+0000
TZNAME:UTC
DTSTART:20250101T000000
END:STANDARD
END:VTIMEZONE
BEGIN:VEVENT
DTSTART;TZID=UTC:20260708T203000
DTEND;TZID=UTC:20260708T230000
DTSTAMP:20260422T221456
CREATED:20260422T172403Z
LAST-MODIFIED:20260422T172403Z
UID:2205-1783542600-1783551600@csitamilabudhabi.org
SUMMARY:Holy Communion Service
DESCRIPTION:Regular Friday Service – Holy Communion Service
URL:https://csitamilabudhabi.org/event/holy-communion-service-6/
END:VEVENT
BEGIN:VEVENT
DTSTART;TZID=UTC:20260805T203000
DTEND;TZID=UTC:20260805T230000
DTSTAMP:20260422T221456
CREATED:20260422T172333Z
LAST-MODIFIED:20260422T172333Z
UID:2196-1785961800-1785970800@csitamilabudhabi.org
SUMMARY:Holy Divine Service
DESCRIPTION:Regular Friday Service – Holy Divine Service
URL:https://csitamilabudhabi.org/event/holy-divine-service-3/
END:VEVENT
BEGIN:VEVENT
DTSTART;TZID=UTC:20260910T203000
DTEND;TZID=UTC:20260910T230000
DTSTAMP:20260422T221456
CREATED:20260422T172432Z
LAST-MODIFIED:20260422T172432Z
UID:2209-1789072200-1789081200@csitamilabudhabi.org
SUMMARY:Holy Divine Service
DESCRIPTION:Regular Friday Service – Holy Divine Service
URL:https://csitamilabudhabi.org/event/holy-divine-service-7/
END:VEVENT
BEGIN:VEVENT
DTSTART;TZID=UTC:20261004T203000
DTEND;TZID=UTC:20261004T230000
DTSTAMP:20260422T221456
CREATED:20260422T172330Z
LAST-MODIFIED:20260422T172330Z
UID:2192-1791145800-1791154800@csitamilabudhabi.org
SUMMARY:Holy Divine Service
DESCRIPTION:Regular Friday Service – Holy Divine Service
URL:https://csitamilabudhabi.org/event/holy-divine-service/
END:VEVENT
BEGIN:VEVENT
DTSTART;TZID=UTC:20261007T203000
DTEND;TZID=UTC:20261007T230000
DTSTAMP:20260422T221456
CREATED:20260422T172348Z
LAST-MODIFIED:20260422T172348Z
UID:2203-1791405000-1791414000@csitamilabudhabi.org
SUMMARY:Holy Divine Service
DESCRIPTION:Regular Friday Service – Holy Divine Service
URL:https://csitamilabudhabi.org/event/holy-divine-service-5/
END:VEVENT
BEGIN:VEVENT
DTSTART;TZID=UTC:20261109T203000
DTEND;TZID=UTC:20261109T230000
DTSTAMP:20260422T221456
CREATED:20260422T172417Z
LAST-MODIFIED:20260422T172417Z
UID:2207-1794256200-1794265200@csitamilabudhabi.org
SUMMARY:Holy Divine Service
DESCRIPTION:Regular Friday Service – Holy Divine Service
URL:https://csitamilabudhabi.org/event/holy-divine-service-6/
END:VEVENT
BEGIN:VEVENT
DTSTART;TZID=UTC:20261112T203000
DTEND;TZID=UTC:20261112T230000
DTSTAMP:20260422T221456
CREATED:20260422T172503Z
LAST-MODIFIED:20260422T172503Z
UID:2212-1794515400-1794524400@csitamilabudhabi.org
SUMMARY:Holy Divine Service
DESCRIPTION:Regular Friday Service – Holy Divine Service
URL:https://csitamilabudhabi.org/event/holy-divine-service-8/
END:VEVENT
BEGIN:VEVENT
DTSTART;TZID=UTC:20261206T203000
DTEND;TZID=UTC:20261206T230000
DTSTAMP:20260422T221456
CREATED:20260422T172348Z
LAST-MODIFIED:20260422T172348Z
UID:2201-1796589000-1796598000@csitamilabudhabi.org
SUMMARY:Holy Divine Service
DESCRIPTION:Regular Friday Service – Holy Divine Service
URL:https://csitamilabudhabi.org/event/holy-divine-service-4/
END:VEVENT
END:VCALENDAR